BEGIN:VCALENDAR
VERSION:2.0
PRODID:-//Wander Ellijay - ECPv6.15.20//NONSGML v1.0//EN
CALSCALE:GREGORIAN
METHOD:PUBLISH
X-WR-CALNAME:Wander Ellijay
X-ORIGINAL-URL:https://www.wanderellijay.com
X-WR-CALDESC:Events for Wander Ellijay
REFRESH-INTERVAL;VALUE=DURATION:PT1H
X-Robots-Tag:noindex
X-PUBLISHED-TTL:PT1H
BEGIN:VTIMEZONE
TZID:America/New_York
BEGIN:DAYLIGHT
TZOFFSETFROM:-0500
TZOFFSETTO:-0400
TZNAME:EDT
DTSTART:20220313T070000
END:DAYLIGHT
BEGIN:STANDARD
TZOFFSETFROM:-0400
TZOFFSETTO:-0500
TZNAME:EST
DTSTART:20221106T060000
END:STANDARD
BEGIN:DAYLIGHT
TZOFFSETFROM:-0500
TZOFFSETTO:-0400
TZNAME:EDT
DTSTART:20230312T070000
END:DAYLIGHT
BEGIN:STANDARD
TZOFFSETFROM:-0400
TZOFFSETTO:-0500
TZNAME:EST
DTSTART:20231105T060000
END:STANDARD
BEGIN:DAYLIGHT
TZOFFSETFROM:-0500
TZOFFSETTO:-0400
TZNAME:EDT
DTSTART:20240310T070000
END:DAYLIGHT
BEGIN:STANDARD
TZOFFSETFROM:-0400
TZOFFSETTO:-0500
TZNAME:EST
DTSTART:20241103T060000
END:STANDARD
END:VTIMEZONE
BEGIN:VEVENT
DTSTART;TZID=America/New_York:20231231T170000
DTEND;TZID=America/New_York:20231231T230000
DTSTAMP:20260421T094010
CREATED:20231222T180508Z
LAST-MODIFIED:20231222T181859Z
UID:31195-1704042000-1704063600@www.wanderellijay.com
SUMMARY:Ring in 2024 with Laughter and Cheer: New Year's Eve in Ellijay\, GA [SOLD OUT!]
DESCRIPTION:This event is now sold out! Follow The Butcher and the Bottle for the next awesome event!\nAs the year draws to a close and we prepare to welcome 2024\, Ellijay\, Georgia\, is buzzing with excitement for the New Year’s Eve celebrations. If you’re looking for a unique way to ring in the new year\, look no further than The Butcher and Bottle in Ellijay. This year\, they’re hosting a special New Year’s Eve Comedy Show that promises an evening of laughter\, joy\, and unforgettable memories. \nNew Year’s Eve Comedy Show: On Sunday\, December 31st\, join The Butcher and Bottle for a night filled with big laughs and celebration! The event features two shows\, one at 5:00 PM and another at 8:00 PM\, each offering a complimentary champagne toast and noise makers to join in a fun countdown at the end of the show. You’ll enjoy performances by four talented comedians\, each bringing their best stand-up comedy sets to the stage. \nPhoto complimentary of: https://laughingskulllounge.freshtix.com/events/new-years-eve-ellijay-12-31-23-8-pm \nTicket Information: Tickets are expected to sell out quickly\, as the last comedy show in Ellijay was a huge success. The ticket fee includes the service fee and sales tax. For more information and to purchase your tickets\, visit the following links: \n\n5 PM Show Tickets\n8 PM Show Tickets\n\nOther Events at The Butcher and Bottle: Apart from the New Year’s Eve Comedy Show\, The Butcher and Bottle hosts various events throughout the year. Keep an eye out for their “Brushstrokes & Bites” event on January 18th\, featuring a whimsical Winter Wonderland theme\, and the St. Patrick’s Day celebration on March 17th. \nNew Year’s Eve in Ellijay\, GA\, at The Butcher and Bottle is set to be a night of joyous celebration. Whether you’re a local or just visiting\, this event is the perfect way to bid farewell to 2023 and welcome the new year with laughter and good company. Don’t miss out on this unique experience to celebrate New Year’s Eve in the heart of Ellijay! \nFrom the website: \nRing in the New Year at The Butcher & Bottle in Ellijay having some big laughs & celebration with your neighbors. Both shows (5:00 pm & 8:00 pm) come with complimentary champagne toast and noise makers to do a fun ‘countdown’ at the end of the show.\nYou will see 5 comedians doing their best stand-up comedy sets. Get your tickets now because we do expect to sell out! (the last comedy show we did in Ellijay sold out one week early)\nPLEASE NOTE: Ticket Fee includes Service Fee & Sales Tax
URL:https://www.wanderellijay.com/event/ring-in-2024-with-laughter-and-cheer-new-years-eve-in-ellijay-ga/
LOCATION:The Butcher and Bottle\, 24 River St\, Ellijay\, GA\, 30540\, United States
CATEGORIES:GA,New Year's Eve
ATTACH;FMTTYPE=image/png:https://www.wanderellijay.com/wp-content/uploads/2023/12/comedy-show.png
ORGANIZER;CN="The Laughing Skull":MAILTO:whatup@laughingskulllounge.com
END:VEVENT
END:VCALENDAR